BEGIN:VCALENDAR
VERSION:2.0
PRODID:-//Baseball Victoria - ECPv6.15.16//NONSGML v1.0//EN
CALSCALE:GREGORIAN
METHOD:PUBLISH
X-ORIGINAL-URL:https://baseballvictoria.com.au
X-WR-CALDESC:Events for Baseball Victoria
REFRESH-INTERVAL;VALUE=DURATION:PT1H
X-Robots-Tag:noindex
X-PUBLISHED-TTL:PT1H
BEGIN:VTIMEZONE
TZID:Australia/Melbourne
BEGIN:STANDARD
TZOFFSETFROM:+1100
TZOFFSETTO:+1000
TZNAME:AEST
DTSTART:20210403T160000
END:STANDARD
BEGIN:DAYLIGHT
TZOFFSETFROM:+1000
TZOFFSETTO:+1100
TZNAME:AEDT
DTSTART:20211002T160000
END:DAYLIGHT
BEGIN:STANDARD
TZOFFSETFROM:+1100
TZOFFSETTO:+1000
TZNAME:AEST
DTSTART:20220402T160000
END:STANDARD
BEGIN:DAYLIGHT
TZOFFSETFROM:+1000
TZOFFSETTO:+1100
TZNAME:AEDT
DTSTART:20221001T160000
END:DAYLIGHT
BEGIN:STANDARD
TZOFFSETFROM:+1100
TZOFFSETTO:+1000
TZNAME:AEST
DTSTART:20230401T160000
END:STANDARD
BEGIN:DAYLIGHT
TZOFFSETFROM:+1000
TZOFFSETTO:+1100
TZNAME:AEDT
DTSTART:20230930T160000
END:DAYLIGHT
END:VTIMEZONE
BEGIN:VEVENT
DTSTART;TZID=Australia/Melbourne:20220124T090000
DTEND;TZID=Australia/Melbourne:20220128T140000
DTSTAMP:20260426T011533
CREATED:20211212T120449Z
LAST-MODIFIED:20211212T120449Z
UID:19746-1643014800-1643378400@baseballvictoria.com.au
SUMMARY:School Holiday Camps
DESCRIPTION:Baseball Victoria is pleased to announce ‘Fun in the Sun’ baseball camps for U12 and U14 age groups over the January holidays. \nLed by coach Keli’i (Zee) Zablan\, these camps will help players develop their baseball skills as they take part in fun games and activities. \nCamp 1 - U12: Monday 24 January & Tuesday 25 January 2022\nCamp 2 - U14: Thursday 27 January & Friday 28 January 2022 \nVenue: Melbourne Ballpark\nTime: 9am – 2pm across all days \nLearn more and click HERE to register today.
URL:https://baseballvictoria.com.au/event/school-holiday-camps/
LOCATION:Melbourne Ballpark\, Australia
ATTACH;FMTTYPE=image/jpeg:https://baseballvictoria.com.au/wp-content/uploads/2020/02/replacement-image-no-text.jpg
END:VEVENT
END:VCALENDAR