BEGIN:VCALENDAR
VERSION:2.0
PRODID:-//Baseball Victoria - ECPv6.15.16//NONSGML v1.0//EN
CALSCALE:GREGORIAN
METHOD:PUBLISH
X-WR-CALNAME:Baseball Victoria
X-ORIGINAL-URL:https://baseballvictoria.com.au
X-WR-CALDESC:Events for Baseball Victoria
REFRESH-INTERVAL;VALUE=DURATION:PT1H
X-Robots-Tag:noindex
X-PUBLISHED-TTL:PT1H
BEGIN:VTIMEZONE
TZID:Australia/Melbourne
BEGIN:STANDARD
TZOFFSETFROM:+1100
TZOFFSETTO:+1000
TZNAME:AEST
DTSTART:20210403T160000
END:STANDARD
BEGIN:DAYLIGHT
TZOFFSETFROM:+1000
TZOFFSETTO:+1100
TZNAME:AEDT
DTSTART:20211002T160000
END:DAYLIGHT
BEGIN:STANDARD
TZOFFSETFROM:+1100
TZOFFSETTO:+1000
TZNAME:AEST
DTSTART:20220402T160000
END:STANDARD
BEGIN:DAYLIGHT
TZOFFSETFROM:+1000
TZOFFSETTO:+1100
TZNAME:AEDT
DTSTART:20221001T160000
END:DAYLIGHT
BEGIN:STANDARD
TZOFFSETFROM:+1100
TZOFFSETTO:+1000
TZNAME:AEST
DTSTART:20230401T160000
END:STANDARD
BEGIN:DAYLIGHT
TZOFFSETFROM:+1000
TZOFFSETTO:+1100
TZNAME:AEDT
DTSTART:20230930T160000
END:DAYLIGHT
END:VTIMEZONE
BEGIN:VEVENT
DTSTART;TZID=Australia/Melbourne:20220409T080000
DTEND;TZID=Australia/Melbourne:20220411T170000
DTSTAMP:20260425T233025
CREATED:20220315T001643Z
LAST-MODIFIED:20220407T233901Z
UID:20166-1649491200-1649696400@baseballvictoria.com.au
SUMMARY:2022 Senior\, Junior\, & Intermediate League State Championships
DESCRIPTION:
URL:https://baseballvictoria.com.au/event/2022-junior-intermediate-senior-league-state-championships/
LOCATION:Geelong Baseball Centre\, Australia
ATTACH;FMTTYPE=image/jpeg:https://baseballvictoria.com.au/wp-content/uploads/2020/02/replacement-image-no-text.jpg
END:VEVENT
END:VCALENDAR